{"text_format":"1","workbook":"xlsx","n_sheets":9,"sheets":["LISE","Base","Global","ChargeStates -> MeanValue","ReactionCalculation","Z -> data","data -> Z","parameters","data"],"not_rendered":{"charts":2,"images":6,"macros":1,"external_links":0,"defined_names":173,"comments":0,"pivot_tables":0},"unopened":[{"sheet":"LISE","index":0,"reason":"part_missing"}],"bounds":{"document_bytes":16777216,"sheet_cells":100000,"rows_first":2000,"rows_last":500,"rows_between":2000,"halvings":0,"cell_chars":16384,"cell_head_chars":4096},"cells_cut":0,"cells_raw":0,"read":"whole","date_system":"1900"}

{"sheet":"Base","index":1,"n_rows":62,"n_cols":7,"rows_kept":62,"cut":false,"hidden":false,"merged":[[48,5,48,6],[25,5,25,6],[26,5,26,6],[27,5,27,6],[28,5,28,6],[29,5,29,6],[31,5,31,6],[32,5,32,6],[46,5,46,6],[47,5,47,6],[45,5,45,6],[43,5,43,6],[1,4,1,5],[20,5,20,6],[21,5,21,6],[15,5,15,6],[17,5,17,6],[18,5,18,6],[19,5,19,6],[14,5,14,6],[13,4,13,5],[16,5,16,6],[22,5,22,6],[23,5,23,6],[44,5,44,6],[33,5,33,6],[42,5,42,6],[30,5,30,6],[34,5,34,6],[35,5,35,6],[24,5,24,6]]}
[]
[null,"Energy loss\ncalculation method","Charge State\ncalculation methods","Energy Straggling\ncalculation methods","names"]
[null,null,null,null,"Zparticle=",92,{"$f":"+Show_Element(Zparticle)","v":"U"}]
[null,null,null,null,"Aparticle=",238]
[null,null,null,null,"Ztarget=",14,{"$f":"+Show_Element(Ztarget)","v":"Si"}]
[null,null,null,null,"Atarget=",28]
[null,null,null,null,"Energy=",200,"MeV/u"]
[null,null,null,null,"Thickness=",10,"mg/cm2"]
[null,null,null,null,"ZmQ=",0]
[]
[]
[null,"current state = 2","current state = 3","current state = 1",null,"you may change"]
[null,null,null,null,null," values of top cells"]
[null,"function","return","parameters","example"]
[null,"Energy After Matter","Residual energy in MeV/u","Zparticle, Aparticle\nEnergy [MeV/u]\nZtarget, Thickness [mg/cm2]",{"$f":"EnergyLossInMatter(Zparticle,Aparticle,energy,Ztarget,Thickness)","v":198.76660847321131},"MeV/u"]
[null,"Energy After Matter\nwith option","Residual energy in MeV/u","Zparticle, Aparticle\nEnergy [MeV/u], Ztarget\nThickness [mg/cm2],option",{"$f":"EnergyLossInMatter_option(Zparticle,Aparticle,energy,Ztarget,Thickness,Energy_loss_option)","v":198.74826530828872},"MeV/u"]
[null,"Range In Matter","Range  in mg/cm2","Zparticle, Aparticle\nEnergy [MeV/u]\nZtarget",{"$f":"RangeInMatter(Zparticle,Aparticle,energy,Ztarget)","v":1127.9758145206531},"mg/cm2"]
[null,"Range In Matter\nwith option","Range  in mg/cm2","Zparticle, Aparticle\nEnergy [MeV/u]\nZtarget, option",{"$f":"RangeInMatter_option(Zparticle,Aparticle,energy,Ztarget,Range_option)","v":1057.3497691043631},"mg/cm2"]
[null,"StragglingEnergy","energy straggling \nin material [MeV/u]","Zparticle, Aparticle\nEnergy [MeV/u]\nZtarget, Thickness [mg/cm2]",{"$f":"StragglingEnergy(Zparticle,Aparticle,energy,Ztarget,Thickness)","v":1.6976576049128226E-2},"MeV/u"]
[null,"StragglingRange","range straggling \nin material [mg/cm2]","Zparticle, Aparticle\nEnergy [MeV/u]\nZtarget",{"$f":"StragglingRange(Zparticle,Aparticle,energy,Ztarget)","v":1.0299776805449665},"mg/cm2"]
[null,"Stopping power","Hubert  -  option=0","Zparticle, Aparticle\nEnergy [MeV/u]\nZtarget",{"$f":"StoppingPower(Zparticle,Aparticle,energy,Ztarget,0)","v":28.384567734551467},"MeV/(mg/cm2)"]
[null,"Stopping power","Zigler  -  option=1","Zparticle, Aparticle\nEnergy [MeV/u]\nZtarget",{"$f":"StoppingPower(Zparticle,Aparticle,energy,Ztarget,1)","v":29.751977997327618},"MeV/(mg/cm2)"]
[null,"Stopping power","Atima  -  option=2","Zparticle, Aparticle\nEnergy [MeV/u]\nZtarget",{"$f":"StoppingPower(Zparticle,Aparticle,energy,Ztarget,2)","v":29.323442892092881},"MeV/(mg/cm2)"]
[null,"Stopping power","Atima without LS  -  option=3","Zparticle, Aparticle\nEnergy [MeV/u]\nZtarget",{"$f":"StoppingPower(Zparticle,Aparticle,energy,Ztarget,3)","v":29.144356116696827},"MeV/(mg/cm2)"]
[null,"Isotope Mass","get  isotopic mass","Z,A",{"$f":"MassIsotope(Zparticle,Aparticle)","v":238.05078817756589}]
[null,"Mass","get  element mass","Z",{"$f":"+Mass(Zparticle)","v":238.03}]
[null,"Show_Z","Element Name -> Z (int)","Element Name",{"$f":"show_Z(E28)","v":92}]
[null,"Show_Element","Z (int) -> Element Name","Atomic number",{"$f":"Show_Element(Zparticle)","v":"U"}]
[null,"Mg2Mkm","mg/cm2 -> microns","Thickness [mg/cm2]\nZtarget",{"$f":"Mg2Mkm(Thickness,Ztarget)","v":43.081164914699286},"micron"]
[null,"Mkm2Mg","microns -> mg/cm2","Thickness [micron]\nZtarget",{"$f":"Mkm2Mg(E29,Ztarget)","v":9.9999999999999982},"mg/cm2"]
[null,"Beta2Energy","transformation\nBeta to Energy [MeV/u]","beta",{"$f":"Beta2Energy(E32)","v":200.00000000000009}]
[null,"Energy2Beta","transformation\nEnergy [MeV/u] to Beta","Energy [MeV/u]",{"$f":"Energy2Beta(energy)","v":0.56768980003788438}]
[null,"Beta2Gamma","transformation\nBeta to Gamma","beta",{"$f":"Beta2Gamma(E32)","v":1.2147088410755036}]
[null,"Gamma2Beta","transformation\nGamma to Beta","gamma",{"$f":"Gamma2Beta(E33)","v":0.56768980003788438}]
[null,"Gamma2Energy","transformation\nGamma to Energy [MeV/u]","gamma",{"$f":"Gamma2Energy(E36)","v":200.00000000000009}]
[null,"Energy2Gamma","transformation\nEnergy [MeV/u] to Gamma","Energy [MeV/u]",{"$f":"Energy2Gamma(energy)","v":1.2147088410755036}]
[null,"Brho2Energy","transformation\nBrho[Tm] to \nEnergy [MeV/u]","Brho [Tm]\nMparticle, Qparticle ",{"$f":"Brho2Energy(E38,Aparticle,Zparticle)","v":200.00000000000009}]
[null,"Energy2Brho","transformation\nEnergy [MeV/u]\n to Brho [Tm]","Energy [MeV/u]\nMparticle, Qparticle ",{"$f":"Energy2Brho(energy,Aparticle,Zparticle)","v":5.5428328027581157}]
[null,"Energy2Momentum","transformation\nEnergy [MeV/u]\n to Momentum [MeV/c]","Energy [MeV/u]\nMparticle ",{"$f":"Energy2Momentum(energy,Aparticle)","v":152876.35117619991}]
[null,"Momentum2Energy","transformation\nMomentum[MeV/c] to \nEnergy [MeV/u]","Momentum [MeV/c]\nMparticle ",{"$f":"Momentum2Energy(E39,Aparticle)","v":199.99999999999989}]
[null,"Brho2Momentum","transformation\nBrho [Tm]\n to Momentum [MeV/c]","Energy [MeV/u]\nQparticle ",{"$f":"Brho2Momentum(E38,Zparticle)","v":152876.35117619994}]
[null,"Momentum2Brho","transformation\nMomentum[MeV/c] to \nBrho [Tm]","Momentum [MeV/c]\nQparticle ",{"$f":"Momentum2Brho(E41,Zparticle)","v":5.5428328027581157}]
[null,"EPAX 2.15","Cross section\n(EPAX 2.15)\n[mb]","Zparticle, Aparticle,\nZtarget, Atarget,\nZfragment, Afragment",{"$f":"EPAX215(Aparticle,Zparticle,Atarget,Ztarget,Afragment,Zfragment)","v":5.5343015618180141E-3},"mb"]
[null,"EPAX 3.01","Cross section\n(EPAX 3.01)\n[mb]","Zparticle, Aparticle,\nZtarget, Atarget,\nZfragment, Afragment",{"$f":"EPAX301(Aparticle,Zparticle,Atarget,Ztarget,Afragment,Zfragment)","v":6.4897015851973624E-3},"mb"]
[null,"Charge State Fraction*","Charge State Fraction %","Energy [MeV/u]\nZparticle, Ztarget\nZpart-Qpart",{"$f":"ChargeState(energy,Zparticle,Ztarget,ZmQ)","v":5.531225278192939},"%"]
[null,"Schwietz model for GAS*","Charge State Fraction %","Energy [MeV/u]\nZparticle, Ztarget\nZpart-Qpart",{"$f":"SchiwietzGas(energy,Zparticle,Ztarget,ZmQ)","v":32.36177563661029},"%"]
[null,"Charge State Fraction *\nwith option","Charge State Fraction %","Energy [MeV/u]\nZparticle, Ztarget\nZpart-Qpart, Option",{"$f":"ChargeState_option(energy,Zparticle,Ztarget,ZmQ,Opt)","v":24.831729756837476},"%"]
[null,"Charge State  <Q> *","Average Charge\nState with option*","Energy [MeV/u]\nZparticle, Ztarget,\noption",{"$f":"Charge_Qmean(energy,Zparticle,Ztarget,Opt)","v":90.962390336247935}]
[null,"Charge dQ *","Charge State sigma\ndQ *","Energy [MeV/u]\nZparticle, Ztarget,\noption",{"$f":"Charge_dQ(energy,Zparticle,Ztarget,Opt)","v":0.91693997461788923}]
[]
[null,"version from 28-FEB-2013"]
[null,"Oleg Tarasov",null,"Zfragment=",50]
[null,"tarasov@nscl.msu.edu",null,"Afragment=",120]
[null,"www.nscl.msu.edu/~tarasov",null,"Charge state option =",5]
[null,null,null,"Range option =",1]
[null,"code LISE++",null,"Energy loss option =",1]
[null,"lise.nscl.msu.edu",null,null,"you may change"]
[null,null,null,null," values of top cells"]
[]
[null,"* -  Equilibrium distribution is suggested "]
[]
[null,"old+78"]

{"sheet":"Global","index":2,"n_rows":37,"n_cols":6,"rows_kept":37,"cut":false,"hidden":false,"merged":[[3,1,3,2],[19,1,19,2]]}
[]
[null,"GlobalCode(ZmQ_out; Aparticle; Zparticle; ZmQ_in; Energy; Atarget; Ztarget; Thickness; Option; Fast)"]
[]
[null,"names",null,"Description"]
[null,"ZmQ_out=",103,"Option (see bottom table)"]
[null,"Aparticle=",238,"Mass of projectile"]
[null,"Zparticle=",92,"Element number of proj."]
[null,"ZmQ_in=",3,"initial input charge"]
[null,"Energy=",300,"MeV/u   (init or final : depends from option')"]
[null,"Atarget=",64,"Mass of target"]
[null,"Ztarget=",29,"Element number of target"]
[null,"Thickness=",1000,"mg/cm2"]
[null,"Option=",0,"0/1- at target  (Einit/Efinal);  2/3 -equilibrium (Einit/Efinal)"]
[null,"Fast=",0,"0-slow / 1-fast / 2 -superfast"]
[null,"RESULT=",{"$f":"GLOBALCODE(ZmQ_out_g,Aparticle_g,Zparticle_g,ZmQ_in_g,Energy_g,Atarget_g,Ztarget_g,Thickness_g,Option_g,Fast_g)","v":300.00000000000074}]
[]
[null,"E init :  initial energy of projectile before Equilibrium thickness"]
[null,"E final : final energy of projectile after Equilibrium thickness"]
[]
[null,"Options",null,"RESULT","Description","Dimens"]
[null,"ZmQ_out=",103,{"$f":"GLOBALCODE(C21,Aparticle_g,Zparticle_g,ZmQ_in_g,Energy_g,Atarget_g,Ztarget_g,Thickness_g,Option_g,Fast_g)","v":206.11520664857491},"Energy after/before target","MeV/u"]
[null,"ZmQ_out=",102,118.31591020429474,"Equilibrium thickness","mg/cm2"]
[null,"ZmQ_out=",101,0.71167035593375916,"dQ  /st.deviation/"]
[null,"ZmQ_out=",100,90.20464720363573,"<Q>  /average/"]
[null,"ZmQ_out=",0,3.9428410102744192E-2,"Z - Q = 0","part"]
[null,"ZmQ_out=",{"$f":"1+C25","v":1},0.24811259382109668,"Z - Q = 1","part"]
[null,"ZmQ_out=",2,0.59974623435994967,"Z - Q = 2","part"]
[null,"ZmQ_out=",3,0.10358053101608558,"Z - Q = 3","part"]
[null,"ZmQ_out=",4,8.6713029018239754E-3,"Z - Q = 4","part"]
[null,"ZmQ_out=",5,4.4503785699573259E-4,"Z - Q = 5","part"]
[null,"ZmQ_out=",6,1.549697039497255E-5,"Z - Q = 6","part"]
[null,"ZmQ_out=",7,-776,"Z - Q = 7","part"]
[null,null,null,{"$f":"+SUM(D25:D32)","v":-775.00000039297095}]
[]
[]
[null,"If result is equal -776,-777 or -778  ---  you got error!"]
[null,"check input parameters"]

{"sheet":"ChargeStates -> MeanValue","index":3,"n_rows":53,"n_cols":6,"rows_kept":53,"cut":false,"hidden":false,"merged":[]}
["Target=",20]
["Energy=",200,"MeV/u"]
[]
[null,"Winger","Leon","Schima","Global","Schiwietz"]
["Zbeam",0,1,2,3,5]
[4,{"$f":"$A6-[0]!Charge_Qmean(energy,$A6,target,B$5)","v":0},{"$f":"$A6-[0]!Charge_Qmean(energy,$A6,target,C$5)","v":0},{"$f":"$A6-[0]!Charge_Qmean(energy,$A6,target,D$5)","v":0.33692316668828948},{"$f":"$A6-[0]!Charge_Qmean(energy,$A6,target,E$5)","v":2.089977524377673E-9},{"$f":"$A6-[0]!Charge_Qmean(energy,$A6,target,F$5)","v":5.3478394567818555E-4}]
[{"$f":"4+A6","v":8},{"$f":"$A7-[0]!Charge_Qmean(energy,$A7,target,B$5)","v":0},{"$f":"$A7-[0]!Charge_Qmean(energy,$A7,target,C$5)","v":0},{"$f":"$A7-[0]!Charge_Qmean(energy,$A7,target,D$5)","v":0.62561891012670934},{"$f":"$A7-[0]!Charge_Qmean(energy,$A7,target,E$5)","v":2.9665323086902617E-7},{"$f":"$A7-[0]!Charge_Qmean(energy,$A7,target,F$5)","v":0}]
[12,{"$f":"$A8-[0]!Charge_Qmean(energy,$A8,target,B$5)","v":0},{"$f":"$A8-[0]!Charge_Qmean(energy,$A8,target,C$5)","v":0},{"$f":"$A8-[0]!Charge_Qmean(energy,$A8,target,D$5)","v":0.89132115120414213},{"$f":"$A8-[0]!Charge_Qmean(energy,$A8,target,E$5)","v":1.2297920168435894E-5},{"$f":"$A8-[0]!Charge_Qmean(energy,$A8,target,F$5)","v":0}]
[16,{"$f":"$A9-[0]!Charge_Qmean(energy,$A9,target,B$5)","v":0},{"$f":"$A9-[0]!Charge_Qmean(energy,$A9,target,C$5)","v":0},{"$f":"$A9-[0]!Charge_Qmean(energy,$A9,target,D$5)","v":1.1424092134662764},{"$f":"$A9-[0]!Charge_Qmean(energy,$A9,target,E$5)","v":8.9569085645280211E-5},{"$f":"$A9-[0]!Charge_Qmean(energy,$A9,target,F$5)","v":0}]
[20,{"$f":"$A10-[0]!Charge_Qmean(energy,$A10,target,B$5)","v":1.8319823880119657E-8},{"$f":"$A10-[0]!Charge_Qmean(energy,$A10,target,C$5)","v":0},{"$f":"$A10-[0]!Charge_Qmean(energy,$A10,target,D$5)","v":1.3828687437994418},{"$f":"$A10-[0]!Charge_Qmean(energy,$A10,target,E$5)","v":3.9714114161526481E-4},{"$f":"$A10-[0]!Charge_Qmean(energy,$A10,target,F$5)","v":0}]
[24,{"$f":"$A11-[0]!Charge_Qmean(energy,$A11,target,B$5)","v":6.6881390416995146E-5},{"$f":"$A11-[0]!Charge_Qmean(energy,$A11,target,C$5)","v":0},{"$f":"$A11-[0]!Charge_Qmean(energy,$A11,target,D$5)","v":1.6150279634682079},{"$f":"$A11-[0]!Charge_Qmean(energy,$A11,target,E$5)","v":1.2640075464638301E-3},{"$f":"$A11-[0]!Charge_Qmean(energy,$A11,target,F$5)","v":0}]
[28,{"$f":"$A12-[0]!Charge_Qmean(energy,$A12,target,B$5)","v":2.1125431974589048E-3},{"$f":"$A12-[0]!Charge_Qmean(energy,$A12,target,C$5)","v":0},{"$f":"$A12-[0]!Charge_Qmean(energy,$A12,target,D$5)","v":1.8404092989151017},{"$f":"$A12-[0]!Charge_Qmean(energy,$A12,target,E$5)","v":3.2853693210839197E-3},{"$f":"$A12-[0]!Charge_Qmean(energy,$A12,target,F$5)","v":0}]
[32,{"$f":"$A13-[0]!Charge_Qmean(energy,$A13,target,B$5)","v":1.1405476483385968E-2},{"$f":"$A13-[0]!Charge_Qmean(energy,$A13,target,C$5)","v":0},{"$f":"$A13-[0]!Charge_Qmean(energy,$A13,target,D$5)","v":2.0600831473308787},{"$f":"$A13-[0]!Charge_Qmean(energy,$A13,target,E$5)","v":7.3709365150058659E-3},{"$f":"$A13-[0]!Charge_Qmean(energy,$A13,target,F$5)","v":1.7804856016311987E-2}]
[36,{"$f":"$A14-[0]!Charge_Qmean(energy,$A14,target,B$5)","v":3.0413777683925503E-2},{"$f":"$A14-[0]!Charge_Qmean(energy,$A14,target,C$5)","v":0},{"$f":"$A14-[0]!Charge_Qmean(energy,$A14,target,D$5)","v":2.2748413836659864},{"$f":"$A14-[0]!Charge_Qmean(energy,$A14,target,E$5)","v":1.4845432523244995E-2},{"$f":"$A14-[0]!Charge_Qmean(energy,$A14,target,F$5)","v":4.4112353248152658E-2}]
[40,{"$f":"$A15-[0]!Charge_Qmean(energy,$A15,target,B$5)","v":5.9398917031131759E-2},{"$f":"$A15-[0]!Charge_Qmean(energy,$A15,target,C$5)","v":0},{"$f":"$A15-[0]!Charge_Qmean(energy,$A15,target,D$5)","v":2.4852924075715919},{"$f":"$A15-[0]!Charge_Qmean(energy,$A15,target,E$5)","v":2.7304343982720525E-2},{"$f":"$A15-[0]!Charge_Qmean(energy,$A15,target,F$5)","v":7.8153413416785611E-2}]
[44,{"$f":"$A16-[0]!Charge_Qmean(energy,$A16,target,B$5)","v":9.9251622883485879E-2},{"$f":"$A16-[0]!Charge_Qmean(energy,$A16,target,C$5)","v":0.11753739002028851},{"$f":"$A16-[0]!Charge_Qmean(energy,$A16,target,D$5)","v":2.6919175291573652},{"$f":"$A16-[0]!Charge_Qmean(energy,$A16,target,E$5)","v":4.7052740228167522E-2},{"$f":"$A16-[0]!Charge_Qmean(energy,$A16,target,F$5)","v":0.12045453997819067}]
[48,{"$f":"$A17-[0]!Charge_Qmean(energy,$A17,target,B$5)","v":0.15161236531134392},{"$f":"$A17-[0]!Charge_Qmean(energy,$A17,target,C$5)","v":0.31657834715605304},{"$f":"$A17-[0]!Charge_Qmean(energy,$A17,target,D$5)","v":2.8951065046155122},{"$f":"$A17-[0]!Charge_Qmean(energy,$A17,target,E$5)","v":7.6952034531508673E-2},{"$f":"$A17-[0]!Charge_Qmean(energy,$A17,target,F$5)","v":0.17149285456225982}]
[52,{"$f":"$A18-[0]!Charge_Qmean(energy,$A18,target,B$5)","v":0.21841473324329286},{"$f":"$A18-[0]!Charge_Qmean(energy,$A18,target,C$5)","v":0.55525071978723872},{"$f":"$A18-[0]!Charge_Qmean(energy,$A18,target,D$5)","v":3.0951810233490136},{"$f":"$A18-[0]!Charge_Qmean(energy,$A18,target,E$5)","v":0.1199384533310166},{"$f":"$A18-[0]!Charge_Qmean(energy,$A18,target,F$5)","v":0.23169972466088495}]
[56,{"$f":"$A19-[0]!Charge_Qmean(energy,$A19,target,B$5)","v":0.30161886413308281},{"$f":"$A19-[0]!Charge_Qmean(energy,$A19,target,C$5)","v":0.8394324117661327},{"$f":"$A19-[0]!Charge_Qmean(energy,$A19,target,D$5)","v":3.2924108411541724},{"$f":"$A19-[0]!Charge_Qmean(energy,$A19,target,E$5)","v":0.1809632833635888},{"$f":"$A19-[0]!Charge_Qmean(energy,$A19,target,F$5)","v":0.3014640695265598}]
[60,{"$f":"$A20-[0]!Charge_Qmean(energy,$A20,target,B$5)","v":0.40310225162340885},{"$f":"$A20-[0]!Charge_Qmean(energy,$A20,target,C$5)","v":1.1723085175052717},{"$f":"$A20-[0]!Charge_Qmean(energy,$A20,target,D$5)","v":3.4870252204767382},{"$f":"$A20-[0]!Charge_Qmean(energy,$A20,target,E$5)","v":0.26285407939839445},{"$f":"$A20-[0]!Charge_Qmean(energy,$A20,target,F$5)","v":0.38113538818900139}]
[64,{"$f":"$A21-[0]!Charge_Qmean(energy,$A21,target,B$5)","v":0.52462172400796447},{"$f":"$A21-[0]!Charge_Qmean(energy,$A21,target,C$5)","v":1.5524626565617083},{"$f":"$A21-[0]!Charge_Qmean(energy,$A21,target,D$5)","v":3.6792212630320265},{"$f":"$A21-[0]!Charge_Qmean(energy,$A21,target,E$5)","v":0.37175653972542477},{"$f":"$A21-[0]!Charge_Qmean(energy,$A21,target,F$5)","v":0.47102655000542626}]
[68,{"$f":"$A22-[0]!Charge_Qmean(energy,$A22,target,B$5)","v":0.66780322768322264},{"$f":"$A22-[0]!Charge_Qmean(energy,$A22,target,C$5)","v":1.9723025286168649},{"$f":"$A22-[0]!Charge_Qmean(energy,$A22,target,D$5)","v":3.8691701192460073},{"$f":"$A22-[0]!Charge_Qmean(energy,$A22,target,E$5)","v":0.52215590791560373},{"$f":"$A22-[0]!Charge_Qmean(energy,$A22,target,F$5)","v":0.57141638009578344}]
[72,{"$f":"$A23-[0]!Charge_Qmean(energy,$A23,target,B$5)","v":0.8341418473299882},{"$f":"$A23-[0]!Charge_Qmean(energy,$A23,target,C$5)","v":2.4173762061938078},{"$f":"$A23-[0]!Charge_Qmean(energy,$A23,target,D$5)","v":4.0570217077665944},{"$f":"$A23-[0]!Charge_Qmean(energy,$A23,target,E$5)","v":0.69965208224739683},{"$f":"$A23-[0]!Charge_Qmean(energy,$A23,target,F$5)","v":0.68255206463430795}]
[76,{"$f":"$A24-[0]!Charge_Qmean(energy,$A24,target,B$5)","v":1.025005442802069},{"$f":"$A24-[0]!Charge_Qmean(energy,$A24,target,C$5)","v":2.8670494185224413},{"$f":"$A24-[0]!Charge_Qmean(energy,$A24,target,D$5)","v":4.2429083649144417},{"$f":"$A24-[0]!Charge_Qmean(energy,$A24,target,E$5)","v":0.89371846157018808},{"$f":"$A24-[0]!Charge_Qmean(energy,$A24,target,F$5)","v":0.80465139525328766}]
[80,{"$f":"$A25-[0]!Charge_Qmean(energy,$A25,target,B$5)","v":1.2416395283458712},{"$f":"$A25-[0]!Charge_Qmean(energy,$A25,target,C$5)","v":3.2967320146647694},{"$f":"$A25-[0]!Charge_Qmean(energy,$A25,target,D$5)","v":4.4269477099688999},{"$f":"$A25-[0]!Charge_Qmean(energy,$A25,target,E$5)","v":1.0987352378535178},{"$f":"$A25-[0]!Charge_Qmean(energy,$A25,target,F$5)","v":0.93790486763076331}]
[84,{"$f":"$A26-[0]!Charge_Qmean(energy,$A26,target,B$5)","v":1.4851725923695369},{"$f":"$A26-[0]!Charge_Qmean(energy,$A26,target,C$5)","v":3.6814182173683463},{"$f":"$A26-[0]!Charge_Qmean(energy,$A26,target,D$5)","v":4.6092449257682375},{"$f":"$A26-[0]!Charge_Qmean(energy,$A26,target,E$5)","v":1.3214985557581542},{"$f":"$A26-[0]!Charge_Qmean(energy,$A26,target,F$5)","v":1.0824776463387167}]
[88,{"$f":"$A27-[0]!Charge_Qmean(energy,$A27,target,B$5)","v":1.7566216039495686},{"$f":"$A27-[0]!Charge_Qmean(energy,$A27,target,C$5)","v":3.9998689612384482},{"$f":"$A27-[0]!Charge_Qmean(energy,$A27,target,D$5)","v":4.7898945972941789},{"$f":"$A27-[0]!Charge_Qmean(energy,$A27,target,E$5)","v":1.502379474054294},{"$f":"$A27-[0]!Charge_Qmean(energy,$A27,target,F$5)","v":1.238511405890776}]
[92,{"$f":"$A28-[0]!Charge_Qmean(energy,$A28,target,B$5)","v":2.0568976217982282},{"$f":"$A28-[0]!Charge_Qmean(energy,$A28,target,C$5)","v":4.2384770510928291},{"$f":"$A28-[0]!Charge_Qmean(energy,$A28,target,D$5)","v":4.9689822133011887},{"$f":"$A28-[0]!Charge_Qmean(energy,$A28,target,E$5)","v":1.6626532895860748},{"$f":"$A28-[0]!Charge_Qmean(energy,$A28,target,F$5)","v":1.4061260564027123}]
[96,{"$f":"$A29-[0]!Charge_Qmean(energy,$A29,target,B$5)","v":2.3868114611382225},{"$f":"$A29-[0]!Charge_Qmean(energy,$A29,target,C$5)","v":4.3938446669548483},{"$f":"$A29-[0]!Charge_Qmean(energy,$A29,target,D$5)","v":5.1465854113609879},{"$f":"$A29-[0]!Charge_Qmean(energy,$A29,target,E$5)","v":1.8406890280021742},{"$f":"$A29-[0]!Charge_Qmean(energy,$A29,target,F$5)","v":1.5854213611766994}]
[]
["Beam (Z) =",82]
["Energy =",100,"MeV/u"]
[]
[null,"Winger","Leon","Schima","Global","Schiwietz"]
["Ztarget",0,1,2,3,5]
[4,{"$f":"BeamZ-[0]!Charge_Qmean(Energy2,BeamZ,$A36,B$5)","v":2.128747320300036},{"$f":"BeamZ-[0]!Charge_Qmean(Energy2,BeamZ,$A36,C$5)","v":3.0548258223673201},{"$f":"BeamZ-[0]!Charge_Qmean(Energy2,BeamZ,$A36,D$5)","v":0},{"$f":"BeamZ-[0]!Charge_Qmean(Energy2,BeamZ,$A36,E$5)","v":1.9950763751099458},{"$f":"BeamZ-[0]!Charge_Qmean(Energy2,BeamZ,$A36,F$5)","v":0.93638758054355264}]
[6,{"$f":"BeamZ-[0]!Charge_Qmean(Energy2,BeamZ,$A37,B$5)","v":2.2970880363894679},{"$f":"BeamZ-[0]!Charge_Qmean(Energy2,BeamZ,$A37,C$5)","v":2.276692159268606},{"$f":"BeamZ-[0]!Charge_Qmean(Energy2,BeamZ,$A37,D$5)","v":8.0840024540407285E-4},{"$f":"BeamZ-[0]!Charge_Qmean(Energy2,BeamZ,$A37,E$5)","v":1.8993703060001081},{"$f":"BeamZ-[0]!Charge_Qmean(Energy2,BeamZ,$A37,F$5)","v":1.23678062205137}]
[13,{"$f":"BeamZ-[0]!Charge_Qmean(Energy2,BeamZ,$A38,B$5)","v":2.8949040699062039},{"$f":"BeamZ-[0]!Charge_Qmean(Energy2,BeamZ,$A38,C$5)","v":3.7441077006008356},{"$f":"BeamZ-[0]!Charge_Qmean(Energy2,BeamZ,$A38,D$5)","v":2.2229351680883553},{"$f":"BeamZ-[0]!Charge_Qmean(Energy2,BeamZ,$A38,E$5)","v":1.9768081721668977},{"$f":"BeamZ-[0]!Charge_Qmean(Energy2,BeamZ,$A38,F$5)","v":1.9604056820969049}]
[14,{"$f":"BeamZ-[0]!Charge_Qmean(Energy2,BeamZ,$A39,B$5)","v":2.9602372377926685},{"$f":"BeamZ-[0]!Charge_Qmean(Energy2,BeamZ,$A39,C$5)","v":4.0068682725420501},{"$f":"BeamZ-[0]!Charge_Qmean(Energy2,BeamZ,$A39,D$5)","v":2.5080825143677714},{"$f":"BeamZ-[0]!Charge_Qmean(Energy2,BeamZ,$A39,E$5)","v":2.0198495743757405},{"$f":"BeamZ-[0]!Charge_Qmean(Energy2,BeamZ,$A39,F$5)","v":2.040903078181131}]
[{"$f":"4+A39","v":18},{"$f":"BeamZ-[0]!Charge_Qmean(Energy2,BeamZ,$A40,B$5)","v":3.1811700139005694},{"$f":"BeamZ-[0]!Charge_Qmean(Energy2,BeamZ,$A40,C$5)","v":4.8286711183095861},{"$f":"BeamZ-[0]!Charge_Qmean(Energy2,BeamZ,$A40,D$5)","v":3.5679235623828873},{"$f":"BeamZ-[0]!Charge_Qmean(Energy2,BeamZ,$A40,E$5)","v":2.5023707440218175},{"$f":"BeamZ-[0]!Charge_Qmean(Energy2,BeamZ,$A40,F$5)","v":2.3290820136756594}]
[{"$f":"4+A40","v":22},{"$f":"BeamZ-[0]!Charge_Qmean(Energy2,BeamZ,$A41,B$5)","v":3.3512470396691469},{"$f":"BeamZ-[0]!Charge_Qmean(Energy2,BeamZ,$A41,C$5)","v":5.3240857899898657},{"$f":"BeamZ-[0]!Charge_Qmean(Energy2,BeamZ,$A41,D$5)","v":4.4985672710339486},{"$f":"BeamZ-[0]!Charge_Qmean(Energy2,BeamZ,$A41,E$5)","v":2.3716762234309385},{"$f":"BeamZ-[0]!Charge_Qmean(Energy2,BeamZ,$A41,F$5)","v":2.5763136332434584}]
[28,{"$f":"BeamZ-[0]!Charge_Qmean(Energy2,BeamZ,$A42,B$5)","v":3.5397618521539158},{"$f":"BeamZ-[0]!Charge_Qmean(Energy2,BeamZ,$A42,C$5)","v":5.6898085035588934},{"$f":"BeamZ-[0]!Charge_Qmean(Energy2,BeamZ,$A42,D$5)","v":5.6522878227029594},{"$f":"BeamZ-[0]!Charge_Qmean(Energy2,BeamZ,$A42,E$5)","v":2.5618034473217222},{"$f":"BeamZ-[0]!Charge_Qmean(Energy2,BeamZ,$A42,F$5)","v":2.8938742081779623}]
[29,{"$f":"BeamZ-[0]!Charge_Qmean(Energy2,BeamZ,$A43,B$5)","v":3.565243302426552},{"$f":"BeamZ-[0]!Charge_Qmean(Energy2,BeamZ,$A43,C$5)","v":5.724360092009448},{"$f":"BeamZ-[0]!Charge_Qmean(Energy2,BeamZ,$A43,D$5)","v":5.8163126633285742},{"$f":"BeamZ-[0]!Charge_Qmean(Energy2,BeamZ,$A43,E$5)","v":2.5581457847492146},{"$f":"BeamZ-[0]!Charge_Qmean(Energy2,BeamZ,$A43,F$5)","v":2.9419563733381437}]
[32,{"$f":"BeamZ-[0]!Charge_Qmean(Energy2,BeamZ,$A44,B$5)","v":3.6335711253563403},{"$f":"BeamZ-[0]!Charge_Qmean(Energy2,BeamZ,$A44,C$5)","v":5.800858603568571},{"$f":"BeamZ-[0]!Charge_Qmean(Energy2,BeamZ,$A44,D$5)","v":6.2599381829439125},{"$f":"BeamZ-[0]!Charge_Qmean(Energy2,BeamZ,$A44,E$5)","v":2.6349254930982227},{"$f":"BeamZ-[0]!Charge_Qmean(Energy2,BeamZ,$A44,F$5)","v":3.0793903923706978}]
[36,{"$f":"BeamZ-[0]!Charge_Qmean(Energy2,BeamZ,$A45,B$5)","v":3.7085852116892823},{"$f":"BeamZ-[0]!Charge_Qmean(Energy2,BeamZ,$A45,C$5)","v":5.8600986782506226},{"$f":"BeamZ-[0]!Charge_Qmean(Energy2,BeamZ,$A45,D$5)","v":6.7383912038207967},{"$f":"BeamZ-[0]!Charge_Qmean(Energy2,BeamZ,$A45,E$5)","v":3.0868530696761383},{"$f":"BeamZ-[0]!Charge_Qmean(Energy2,BeamZ,$A45,F$5)","v":3.2487796692466731}]
[47,{"$f":"BeamZ-[0]!Charge_Qmean(Energy2,BeamZ,$A46,B$5)","v":3.8467480086802794},{"$f":"BeamZ-[0]!Charge_Qmean(Energy2,BeamZ,$A46,C$5)","v":5.9152260609927225},{"$f":"BeamZ-[0]!Charge_Qmean(Energy2,BeamZ,$A46,D$5)","v":7.3879632301364069},{"$f":"BeamZ-[0]!Charge_Qmean(Energy2,BeamZ,$A46,E$5)","v":2.7361611215281698},{"$f":"BeamZ-[0]!Charge_Qmean(Energy2,BeamZ,$A46,F$5)","v":3.6521596297314005}]
[54,{"$f":"BeamZ-[0]!Charge_Qmean(Energy2,BeamZ,$A47,B$5)","v":3.8988879294248022},{"$f":"BeamZ-[0]!Charge_Qmean(Energy2,BeamZ,$A47,C$5)","v":5.9229751024341795},{"$f":"BeamZ-[0]!Charge_Qmean(Energy2,BeamZ,$A47,D$5)","v":7.2926127231367559},{"$f":"BeamZ-[0]!Charge_Qmean(Energy2,BeamZ,$A47,E$5)","v":2.8698416080034121},{"$f":"BeamZ-[0]!Charge_Qmean(Energy2,BeamZ,$A47,F$5)","v":3.8731184501161806}]
[63,{"$f":"BeamZ-[0]!Charge_Qmean(Energy2,BeamZ,$A48,B$5)","v":3.9390988841547738},{"$f":"BeamZ-[0]!Charge_Qmean(Energy2,BeamZ,$A48,C$5)","v":5.9258406973684714},{"$f":"BeamZ-[0]!Charge_Qmean(Energy2,BeamZ,$A48,D$5)","v":6.5886311869990095},{"$f":"BeamZ-[0]!Charge_Qmean(Energy2,BeamZ,$A48,E$5)","v":2.7883100234809461},{"$f":"BeamZ-[0]!Charge_Qmean(Energy2,BeamZ,$A48,F$5)","v":4.1271475628977328}]
[73,{"$f":"BeamZ-[0]!Charge_Qmean(Energy2,BeamZ,$A49,B$5)","v":3.959008958282169},{"$f":"BeamZ-[0]!Charge_Qmean(Energy2,BeamZ,$A49,C$5)","v":5.926550962634181},{"$f":"BeamZ-[0]!Charge_Qmean(Energy2,BeamZ,$A49,D$5)","v":5.0393202777052579},{"$f":"BeamZ-[0]!Charge_Qmean(Energy2,BeamZ,$A49,E$5)","v":2.7983331768518696},{"$f":"BeamZ-[0]!Charge_Qmean(Energy2,BeamZ,$A49,F$5)","v":4.3784097528500894}]
[74,{"$f":"BeamZ-[0]!Charge_Qmean(Energy2,BeamZ,$A50,B$5)","v":3.959900837591988},{"$f":"BeamZ-[0]!Charge_Qmean(Energy2,BeamZ,$A50,C$5)","v":5.9265775300478651},{"$f":"BeamZ-[0]!Charge_Qmean(Energy2,BeamZ,$A50,D$5)","v":4.8399776013694833},{"$f":"BeamZ-[0]!Charge_Qmean(Energy2,BeamZ,$A50,E$5)","v":2.7954548770522933},{"$f":"BeamZ-[0]!Charge_Qmean(Energy2,BeamZ,$A50,F$5)","v":4.4020292213701993}]
[79,{"$f":"BeamZ-[0]!Charge_Qmean(Energy2,BeamZ,$A51,B$5)","v":3.9619053145050174},{"$f":"BeamZ-[0]!Charge_Qmean(Energy2,BeamZ,$A51,C$5)","v":5.9266618475475497},{"$f":"BeamZ-[0]!Charge_Qmean(Energy2,BeamZ,$A51,D$5)","v":3.7221417140368658},{"$f":"BeamZ-[0]!Charge_Qmean(Energy2,BeamZ,$A51,E$5)","v":2.772729476613776},{"$f":"BeamZ-[0]!Charge_Qmean(Energy2,BeamZ,$A51,F$5)","v":4.5165068683279088}]
[82,{"$f":"BeamZ-[0]!Charge_Qmean(Energy2,BeamZ,$A52,B$5)","v":3.9613418693722338},{"$f":"BeamZ-[0]!Charge_Qmean(Energy2,BeamZ,$A52,C$5)","v":5.9266880755119473},{"$f":"BeamZ-[0]!Charge_Qmean(Energy2,BeamZ,$A52,D$5)","v":2.9545421771142486},{"$f":"BeamZ-[0]!Charge_Qmean(Energy2,BeamZ,$A52,E$5)","v":2.7540882363703787},{"$f":"BeamZ-[0]!Charge_Qmean(Energy2,BeamZ,$A52,F$5)","v":4.5824830332237809}]
[92,{"$f":"BeamZ-[0]!Charge_Qmean(Energy2,BeamZ,$A53,B$5)","v":3.951668579729315},{"$f":"BeamZ-[0]!Charge_Qmean(Energy2,BeamZ,$A53,C$5)","v":5.9267220530709466},{"$f":"BeamZ-[0]!Charge_Qmean(Energy2,BeamZ,$A53,D$5)","v":0},{"$f":"BeamZ-[0]!Charge_Qmean(Energy2,BeamZ,$A53,E$5)","v":2.8885424281690888},{"$f":"BeamZ-[0]!Charge_Qmean(Energy2,BeamZ,$A53,F$5)","v":4.7894414909194722}]

{"sheet":"ReactionCalculation","index":4,"n_rows":135,"n_cols":13,"rows_kept":135,"cut":false,"hidden":false,"merged":[]}
[null,"name","definition",null,"formula","SI",{"$f":"+TEXT(G2,\"0\")&G4&\"+\"&TEXT(G14,\"0\")&G16","v":"24O+2H"},"24O+2H","24O+2H","48Ca+9Be","48Ca+9Be","4He+22Ne","4He+22Ne"]
["  ","Ap","  ",null,"  ","  ",24,24,24,48,48,4,4]
["  ","Zp","  ",null,"  ","  ",8,8,8,20,20,2,2]
[null,"Name_p","  ",null,"  ","  ",{"$f":"Show_Element(G3)","v":"O"},{"$f":"Show_Element(H3)","v":"O"},"O","Ca","Ca","He","He"]
[null,"Mp","Mass",null,null,"aem",{"$f":"MassIsotope(G3,G2)","v":24.020472480921647},{"$f":"MassIsotope(H3,H2)","v":24.020472480921647},24.020472480921647,47.952534331393558,47.952534331393558,4.0026032365446218,4.0026032365446218]
[null,"dEp","MassExcess",null,null,"MeV",{"$f":"+(G5-G2)*aem","v":19.069999694822748},{"$f":"+(H5-H2)*aem","v":19.069999694822748},19.069999694822748,-44.21400070190311,-44.21400070190311,2.424900054931634,2.424900054931634]
["  ","Ap3","Ap^(1/3)",null,"Ap^(1/3)",null,{"$f":"+Ap^(1/3)","v":2.8844991406148166},2.8844991406148166,2.8844991406148166,3.6342411856642789,3.6342411856642789,1.5874010519681994,1.5874010519681994]
["  ","Rp","equivalent sharp radius(calc)","Wilcke","1.28*Ap3-0.76+0.8/Ap3","fm",{"$f":"1.28*Ap3_- 0.76+0.8/Ap3_","v":3.209503409727219},3.209503409727219,3.209503409727219,4.1119572009099192,4.1119572009099192,1.7758417664772443,1.7758417664772443]
["  ","Rp1","equivalent sharp radius(calc)","Hodgson","(1.13+0.0002*Ap)*Ap3","fm",{"$f":"+(1.13+0.0002*Ap)*Ap3_","v":3.2733296247696932},3.2733296247696932,3.2733296247696932,4.141581255183012,4.141581255183012,1.7950331095656396,1.7950331095656396]
["  ","Cp","matter half-density radius(calc)","Wilcke","Rp*(1-(1/Rp)^2)","fm",{"$f":"+Rp*(1- (1/Rp)^2)","v":2.8979287290556717},2.8979287290556717,2.8979287290556717,3.868764008194121,3.868764008194121,1.2127285325860793,1.2127285325860793]
["  ","Cp1","matter half-density radius(calc)","Hodgson","Rp1*(1-(1/Rp1)^2)","fm",{"$f":"+_Rp1*(1- (1/_Rp1)^2)","v":2.9678302969803756},2.9678302969803756,2.9678302969803756,3.9001275836539206,3.9001275836539206,1.2379403213206479,1.2379403213206479]
["  ","Cp2","matter half-density radius(calc)",null,"1.18*Ap3-0.48","fm",{"$f":"1.18* Ap3_ -0.48","v":2.9237089859254835},2.9237089859254835,2.9237089859254835,3.8084045990838491,3.8084045990838491,1.3931332413224751,1.3931332413224751]
["  ","Rpcharge","charge radius","Hodgson","1.12*Ap3+2.009/Ap3-1.513/Ap","fm",{"$f":"1.12* Ap3_+2.009/Ap3_-1.513/ Ap","v":3.8640787709071409},3.8640787709071409,3.8640787709071409,4.5916269481964349,4.5916269481964349,2.6652298728237835,2.6652298728237835]
["  ","At","  ",null,"  ","  ",2,2,2,9,9,22,22]
["  ","Zt","  ",null,"  ","  ",1,1,1,4,4,10,10]
[null,"Name_t","  ",null,"  ","  ",{"$f":"Show_Element(G15)","v":"H"},"H","H","Be","Be","Ne","Ne"]
[null,"Mt","Mass",null,null,"aem",{"$f":"MassIsotope(G15,G14)","v":2.0141017502133884},{"$f":"MassIsotope(H15,H14)","v":2.0141017502133884},2.0141017502133884,9.0121821461919538,9.0121821461919538,21.991385132477465,21.991385132477465]
["  ","dEt","MassExcess",null,null,"MeV",{"$f":"+(G17-G14)*aem","v":13.135700225830123},13.135700225830123,13.135700225830123,11.347599983214586,11.347599983214586,-8.0247001647940692,-8.0247001647940692]
["  ","At3","At^(1/3)",null,"At^(1/3)",null,{"$f":"+At^(1/3)","v":1.2599210498948732},1.2599210498948732,1.2599210498948732,2.0800838230519041,2.0800838230519041,2.8020393306553872,2.8020393306553872]
["  ","Rt","equivalent sharp radius(calc)","Wilcke","1.28*At3-0.76+0.8/At3","fm",{"$f":"1.28*At3_- 0.76+0.8/At3_","v":1.4876593646527176},1.4876593646527176,1.4876593646527176,2.2871071789217461,2.2871071789217461,3.112116685440339,3.112116685440339]
["  ","Rt1","equivalent sharp radius(calc)","Hodgson","(1.13+0.0002*At)*At3","fm",{"$f":"+(1.13+0.0002*At)*At3_","v":1.4242147548011646},1.4242147548011646,1.4242147548011646,2.3542388709301449,2.3542388709301449,3.1786334166954711,3.1786334166954711]
["  ","Ct","matter half-density radius(calc)","Wilcke","Rt*(1-(1/Rt)^2)","fm",{"$f":"+Rt*(1- (1/Rt)^2)","v":0.81546247350926548},0.81546247350926548,0.81546247350926548,1.849873625017443,1.849873625017443,2.7907919726882819,2.7907919726882819]
["  ","Ct1","matter half-density radius(calc)","Hodgson","Rt1*(1-(1/Rt1)^2)","fm",{"$f":"+_Rt1*(1- (1/_Rt1)^2)","v":0.722073454390602},0.722073454390602,0.722073454390602,1.9294731377890102,1.9294731377890102,2.8640328104262505,2.8640328104262505]
["  ","Ct2","matter half-density radius(calc)",null,"1.18*At3-0.48","fm",{"$f":"1.18* At3_ -0.48","v":1.0067068388759504},1.0067068388759504,1.0067068388759504,1.9744989112012465,1.9744989112012465,2.8264064101733566,2.8264064101733566]
["  ","Rtcharge","charge radius","Hodgson","1.12*At3+2.009/At3-1.513/At","fm",{"$f":"1.12* At3_+2.009/At3_-1.513/ At","v":2.2491559325843147},2.2491559325843147,2.2491559325843147,3.1274092329562162,3.1274092329562162,3.7864891249146808,3.7864891249146808]
["  ","Ac"," ",null,"Ap+At"," ",{"$f":"+G14+G2","v":26},26,26,57,57,26,26]
["  ","Zc"," ",null,"Zp+Zt"," ",9,9,9,24,24,12,12]
[null,"Name_t","  ",null,"  ","  ",{"$f":"Show_Element(G27)","v":"F"},"F","F","Cr","Cr","Mg","Mg"]
[null,"Mc","Mass",null,null,"aem",{"$f":"MassIsotope(G27,G26)","v":26.019613646659447},{"$f":"MassIsotope(H27,H26)","v":26.019613646659447},26.019613646659447,56.943613074036435,56.943613074036435,25.982592916283831,25.982592916283831]
["  ","dEc","MassExcess",null,null,"MeV",{"$f":"+(G29-G26)*aem","v":18.270000457762251},18.270000457762251,18.270000457762251,-52.524101257321519,-52.524101257321519,-16.214599609375558,-16.214599609375558]
["  ","Q","ground state Q-value for fusion",null,"dEt+dEp-dEcomp","MeV",{"$f":"+dEt+dEp-dEc","v":13.935699462890618},13.935699462890618,13.935699462890618,19.657700538632994,19.657700538632994,10.614799499513122,10.614799499513122]
["  ","m","reduced  mass  number",null,"Ap*At/(Ap+At)","  ",{"$f":"+Ap*At/(Ap+At)","v":1.8461538461538463},1.8461538461538463,1.8461538461538463,7.5789473684210522,7.5789473684210522,3.3846153846153846,3.3846153846153846]
["  ","Ac3","Ac^(1/3)",null,"Ac^(1/3)",null,{"$f":"+Ac^(1/3)","v":2.9624960684073702},2.9624960684073702,2.9624960684073702,3.8485011312768047,3.8485011312768047,2.9624960684073702,2.9624960684073702]
["  ","AtAp3","At^(1/3)+Ap^(1/3)",null,"At3+Ap3",null,{"$f":"+At3_+Ap3_","v":4.14442019050969},4.14442019050969,4.14442019050969,5.714325008716183,5.714325008716183,4.3894403826235866,4.3894403826235866]
[null,"RtRp","sum Rt and Rp",null,"Rt+Rp","fm",{"$f":"+Rt+Rp","v":4.6971627743799367},4.6971627743799367,4.6971627743799367,6.3990643798316658,6.3990643798316658,4.8879584519175836,4.8879584519175836]
[null,"Rint","interaction radius","Wilcke","Ct+Cp+4.49-(Ct+Cp)/6.35","fm",{"$f":"+Ct+Cp+4.49-(Ct+Cp)/6.35","v":7.6186051864129789},7.6186051864129789,7.6186051864129789,9.3080647775876955,9.3080647775876955,7.8630448351524143,7.8630448351524143]
["  ","Rn1","interaction radius","Hodgson","1.68*AtAp","fm",{"$f":"1.68*AtAp3","v":6.9626259200562792},6.9626259200562792,6.9626259200562792,9.6000660146431862,9.6000660146431862,7.3742598428076249,7.3742598428076249]
["  ","Rn2","interaction radius","Hodgson","Cp1+Ct1+3.2","fm",{"$f":"+Cp1_+Ct1_+3.2","v":6.8899037513709782},6.8899037513709782,6.8899037513709782,9.0296007214429324,9.0296007214429324,7.301973131746899,7.301973131746899]
["  ","Rbarrier","fusion barrier radius for s-wav.","Wilcke","Rint-0.3117*(Zp*Zt)^(0.2122)","fm",{"$f":"+Rint-IF(Zp*Zt<500,0.3117*(Zp*Zt)^(0.2122),1.096+1.391*Zp*Zt/10000)","v":7.1340173625447871},7.1340173625447871,7.1340173625447871,8.5181640797259703,8.5181640797259703,7.2744514630912631,7.2744514630912631]
["  ","Rc","coulomb radius from \"LNP\"","LNP","0.5+1.36*AtAp3","fm",{"$f":"0.5+1.36*AtAp3","v":6.1364114590931784},6.1364114590931784,6.1364114590931784,8.2714820118540082,8.2714820118540082,6.4696389203680784,6.4696389203680784]
["  ","Ro","  ",null,"Rint/(At^(1/3)+Ap^(1/3))","fm",{"$f":"+Rint/AtAp3","v":1.8382801058297193},1.8382801058297193,1.8382801058297193,1.6289001349048058,1.6289001349048058,1.7913547399526679,1.7913547399526679]
["  ","<C>","reduced half-density radius",null,"Ct*Cp/(Ct+Cp)","fm",{"$f":"+Ct*Cp/(Ct+Cp)","v":0.6363865266382408},0.6363865266382408,0.6363865266382408,1.2514736829295972,1.2514736829295972,0.84537422734127643,0.84537422734127643]
["  ","VC","BSS Coulomb pot. at r=Rint",null,"1.438*Zp*Zt/Rint","MeV",{"$f":"1.438*Zp*Zt/Rint","v":1.5099876839025907},1.5099876839025907,1.5099876839025907,12.359174839113452,12.359174839113452,3.6576161783315744,3.6576161783315744]
["  ","VC_Rc","BSS Coulomb pot. at r=Rc",null,"1.438*Zp*Zt/Rc","MeV",{"$f":"1.438*Zp*Zt/Rc_","v":1.8747113156750457},1.8747113156750457,1.8747113156750457,13.908027586245623,13.908027586245623,4.4453794646029099,4.4453794646029099]
["  ","VC_Rbar","total conserv. potential at Rbar",null,"1.438*Zp*Zt/Rbar","MeV",{"$f":"1.438*Zp*Zt/Rbar","v":1.6125556492753459},1.6125556492753459,1.6125556492753459,13.50525757936572,13.50525757936572,3.9535627044762074,3.9535627044762074]
[null,"Xf","Saddle point (fissility parameter)",null,"Z^2/A/50.13(1-7.826(N-Z)^2/A^2",null,{"$f":"+Zc^2/Ac/50.13*(1-1.7826*((Ac-2*Zc)^2)/(Ac^2))","v":5.1657907919155303E-2},5.1657907919155303E-2,5.1657907919155303E-2,0.19262257305811711,0.19262257305811711,0.10931662157225985,0.10931662157225985]
["  ","TKE","fission TKE for simmet. fission",null,"0.1071*Zc^2/Ac3+22.3","MeV",{"$f":"0.1071*Zc^2/Ac3_+22.3","v":25.228307683683681},25.228307683683681,25.228307683683681,38.329513282105609,38.329513282105609,27.50588032654877,27.50588032654877]
["  ","Elab","  ",null,"  ","MeV",{"$f":"+Elab_A*Mp","v":120.10236240460824},{"$f":"+Elab_A*Mp","v":240.20472480921649},480.40944961843297,959.05068662787119,1438.5760299418068,20.01301618272311,40.02603236544622]
["  ","Elab / Mp","Energy  per nucleon",null,"Elab / Ap","MeV / u",5,10,20,20,30,5,10]
["  ","Ecm","Energy SCM",null,"Mt*Elab/ (Mt+Mp)","MeV",{"$f":"+Mt*Elab/(Mt+Mp)","v":9.2914282437004552},{"$f":"+Mt*Elab/(Mt+Mp)","v":18.58285648740091},37.165712974801821,151.72794687254768,227.59192030882153,16.931374296576454,33.862748593152908]
["  ","Ecm+Q","Excitation Energy",null,"Ecm+Q","MeV",{"$f":"+Ecm+Q","v":23.227127706591073},32.518555950291528,51.101412437692439,171.38564741118068,247.24962084745454,27.546173796089576,44.477548092666026]
[null,"ETA","coulomb parameter","Wilcke","Zp*Zt*e*e/h/v","  ",{"$f":"0.15746*Zp*Zt*(Mp/Elab)^0.5","v":0.56334602197938699},{"$f":"0.15746*Zp*Zt*(Mp/Elab)^0.5","v":0.39834579229609041},0.2816730109896935,2.8167301098969344,2.2998505041270252,1.4083650549484672,0.99586448074022593]
["  ","k","asym. wave number in the CMS","Wilcke","(2*mu*m_nuclon*Ecm/h/h)^(1/2)","1  /  fm",{"$f":"0.2187*Mt*(Mp*Elab)^0.5/(Mt+Mp)","v":0.90875383814107713},{"$f":"0.2187*Mt*(Mp*Elab)^0.5/(Mt+Mp)","v":1.2851720027577156},1.8175076762821543,7.4199224520286968,9.0875119692454494,1.6559834476953503,2.3419142507961213]
["  ","a","parameter","Wilcke-Hod","Zt*Zp*e*e/(mv^2) --- ETA/k","fm",{"$f":"+ETA/k","v":0.61991047337060246},0.30995523668530128,0.15497761834265061,0.37961718981669496,0.25307812654446338,0.85047049045599077,0.4252352452279955]
["  ","QP-CM","quarterpoint angle in the CMS","Wilcke","2*arcsin(ETA/(k*Rint-ETA))","deg",{"$f":"IF(Ecm<VC,180,2*ASIN(ETA/(k*Rint-ETA))*180/PI())","v":10.163284274537384},4.8612137112520042,2.3795939917102977,4.8736403916229065,3.2031404521128697,13.931722395850546,6.5550151872818114]
["  ","Qgr","grazing angle in the CMS(LNF)","LNF","2*ATAN( ETA / Lmax )","deg",{"$f":"2*ATAN( ETA/Lmax)*180/PI()","v":10.163284274537384},4.8612137112520042,2.3795939917102977,4.8736403916229065,3.2031404521128697,13.931722395850546,6.5550151872818114]
["  ","Qcr","critical angle",null,"2*asin(a/(Rint-a)","deg",{"$f":"+ASIN(a/(Rint-a))*2*180/PI()","v":10.163284274537379},4.8612137112520033,2.3795939917102977,4.8736403916229056,3.2031404521128697,13.931722395850546,6.5550151872818114]
["  ","LcriticalF","crit.ang.momentum for fusion",null,"k*RtRp*(1-2a/RtRp)^0.5-0.5","h/2pi",{"$f":"+k*RtRp*(1-2*a/RtRp)^0.5-0.5","v":3.1621423659441641},5.1242271738469869,7.7506497012193165,44.074924146945435,55.304352170498859,6.035998840516708,9.9037608937881298]
["  ","Lmax","graz.ang.momentum by QP-CM","Wilcke","ETA*cot(QP-CM/2)","h/2pi",{"$f":"+ETA/TAN(QP_CM*PI()/180/2)","v":6.335092323602705},9.3844216949622492,13.562275699509087,66.188481167451954,82.255153994312721,11.52698888182198,17.390221137116839]
["  ","SGMAR","reaction CS derived from Lmax",null,"(pi/k^2)*(Lmax+1/2)^2","mb",{"$f":"+(Lmax+1/2)^2*(PI()/k^2)*10","v":1777.2401938104294},1858.3601810009793,1880.6526128713444,2537.7731192188498,2605.2534715113002,1657.1114139352474,1833.3243708636621]
["  ","SGcr","critical CS",null,"pi()/k/k*(Lcr+0.5)^2","mb",{"$f":"+PI()/k/k*(Lcr+0.5)^2*10","v":510.18513831878346},601.66267405838551,647.40144192818673,1133.7893301164011,1184.6662678169835,489.3975858109593,619.995616295334]
["  ","SGMgr1","grazing CS",null,"pi()*Rc^2*(1-VC_RC/Ecm)","mb",{"$f":"+PI()*Rc_^2* (1- VC_Rc/Ecm)*10","v":944.29576875487578},1063.6398114228318,1123.31183275681,1952.3736697576066,2018.0479375467214,969.70782116869168,1142.3299987724115]
["  ","SGMgr2","grazing CS",null,"pi()*Rint^2*(1-VC/Ecm)","mb",{"$f":"+PI()*Rint^2* (1- VC /Ecm)*10","v":1527.1381826073452},1675.3086807068883,1749.3939297566601,2500.1643548318252,2574.0689269418363,1522.7656287590196,1732.5665061722011]
["  ","Dgr","dist.of cl.appr. in the graz.angle",null,"a*(1+cosec((QP-CM/2))","fm",{"$f":"+a*(1+1/SIN(QP_CM*PI()/180))","v":4.1330663012602269},3.9675709026255048,3.8875961662635041,4.8478815767034105,4.7823408110008749,4.3828314695431452,4.1502328795120054]
["  ","Dgr/AtAp3","ratio Dgr to AtAp3",null,"Dgr/AtAp3","fm",{"$f":"+Dgr/AtAp3","v":0.99726043964473909},0.95732834033355196,0.93803137412700399,0.84837344206163146,0.83690388693437412,0.99849436089698262,0.94550387241650935]
[null,"WaveLength",null,null,"197/sqrt(2*Ap*931*Elab)","fm",{"$f":"197/SQRT(2*Ap*Elab*931)","v":8.5034466626477151E-2},6.0128447986163153E-2,4.2517233313238575E-2,2.1278205008067215E-2,1.7373581637366096E-2,0.51025834829347405,0.3608071382353627]
[null,"AngDif1",null,null,"2*asin(pi()*WaveLength/2/Rt)","degrees",{"$f":"2*ASIN(PI()*WaveLength/2/Rt)*180/PI()","v":10.302657187064959},7.2801644735392372,5.1461209456375867,1.6746977493352726,1.367368760507877,29.848952102293932,20.985631597219257]
[null,"AngDif2",null,null,"2*asin(pi()*WaveLength/Rt)","degrees",{"$f":"2*ASIN(PI()*WaveLength/Rt)*180/PI()","v":20.68979422080556},14.589922868853552,10.302657187064959,3.3497533201661884,2.7349322631567725,62.007100529417777,42.71972629721423]
["  ","bgr","impact parameter for graz.",null,"a*cos(1/2*Qgr)","fm",{"$f":"+a*COS(0.5*PI()/180*Qgr)","v":0.617473913069298},0.30967637552967714,0.15494420469785108,0.3792739069606455,0.25297926143647581,0.84419281857120665,0.42453970384045342]
[]
[]
[]
[]
[]
[]
[]
[]
[]
[]
[]
[]
[]
[]
[]
[]
["  ","  ","  ",null,"  ","  "]
["  ","  ","  ",null,"  ","  "]
["  ","  ","  ",null,"  ","  "]
["  ","  ","  ",null,"  ","  "]
["  ","  ","  ",null,"  ","  "]
["  ","  ","  ",null,"  ","  "]
["  ","  ","  ",null,"  ","  "]
["  ","  ","  ",null,"  ","  "]
["  ","  ","  ",null,"  ","  "]
["  ","  ","  ",null,"  ","  "]
["  ","  ","  ",null,"  ","  "]
["  ","  ","  ",null,"  ","  "]
["  ","  ","  ",null,"  ","  "]
["  ","  ","  ",null,"  ","  "]
["  ","  ","  ",null,"  ","  "]
["  ","  ","  ",null,"  ","  "]
["  ","  ","  ",null,"  ","  "]
["  ","  ","  ",null,"  ","  "]
["  ","  ","  ",null,"  ","  "]
["  ","  ","  ",null,"  ","  "]
["  ","  ","  ",null,"  ","  "]
["  ","  ","  ",null,"  ","  "]
["  ","  ","  ",null,"  ","  "]
["  ","  ","  ",null,"  ","  "]
["  ","  ","  ",null,"  ","  "]
["  ","  ","  ",null,"  ","  "]
["  ","  ","  ",null,"  ","  "]
["  ","  ","  ",null,"  ","  "]
["  ","  ","  ",null,"  ","  "]
["  ","  ","  ",null,"  ","  "]
["  ","  ","  ",null,"  ","  "]
["  ","  ","  ",null,"  ","  "]
["  ","  ","  ",null,"  ","  "]
["  ","  ","  ",null,"  ","  "]
["  ","  ","  ",null,"  ","  "]
["  ","  ","  ",null,"  ","  "]
["  ","  ","  ",null,"  ","  "]
["  ","  ","  ",null,"  ","  "]
["  ","  ","  ",null,"  ","  "]
["  ","  ","  ",null,"  ","  "]
["  ","  ","  ",null,"  ","  "]
["  ","  ","  ",null,"  ","  "]
["  ","  ","  ",null,"  ","  "]
["  ","  ","  ",null,"  ","  "]
["  ","  ","  ",null,"  ","  "]
["  ","  ","  ",null,"  ","  "]
["  ","  ","  ",null,"  ","  "]
["  ","  ","  ",null,"  ","  "]
["  ","  ","  ",null,"  ","  "]
["  ","  ","  ",null,"  ","  "]

{"sheet":"Z -> data","index":5,"n_rows":24,"n_cols":10,"rows_kept":24,"cut":false,"hidden":false,"merged":[[23,0,23,1],[13,1,13,2],[12,3,12,6],[1,6,1,7],[12,7,12,9],[4,1,4,2]]}
[]
[null,"Brho1=",3.4,null,null,null,"section"]
[null,"Brho2=",3.4,null,null,null,"first","second","final"]
[null,null,null,null,"Energy","MeV/A",{"$f":"+Brho2Energy(Brho1,A,Q1_)","v":130.30697712179469},{"$f":"+Brho2Energy(Brho2,A,Q2_)","v":130.30697712179469},{"$f":"+H4","v":130.30697712179469}]
[null,{"$f":"+C6&Show_Element(Z)&\" \"&C8&\"+\"&C9&\"+\"","v":"32S 16+16+"},null,null,"beta",null,{"$f":"Energy2Beta(G4)","v":0.47998370981062694},{"$f":"Energy2Beta(H4)","v":0.47998370981062694},{"$f":"+H5","v":0.47998370981062694}]
[null,"A",32,null,"gamma",null,{"$f":"+Beta2Gamma(G5)","v":1.1398903002093634},{"$f":"+Beta2Gamma(H5)","v":1.1398903002093634},{"$f":"+H6","v":1.1398903002093634}]
[null,"Z",16,null,"TOF","ns",{"$f":"+length1/G5/c_speed","v":121.5241996198618},{"$f":"+length2/H5/c_speed","v":125.05469792747297},{"$f":"+H7+G7","v":246.57889754733478}]
[null,"Q1",{"$f":"+C7","v":16},null,"TKE","MeV",{"$f":"+G4*A","v":4169.82326789743},{"$f":"+H4*A","v":4169.82326789743},{"$f":"+H8","v":4169.82326789743}]
[null,"Q2",{"$f":"+Q1_","v":16},null,"az","(for bz=0)",null,null,{"$f":"+Z/SQRT(B19/I10)","v":7.6377777980012755}]
[null,null,null,null,"dE_v","MeV",null,null,{"$f":"-1+LN(5930/(1/I5/I5-1))/I5/I5","v":31.474588422567223}]
[]
[]
[null,null,null,"acquisition",null,null,null,"plot"]
[null,"phys.value",null,"channel","min","max","range","dim","range","channel"]
["RF1-1",{"$f":"+I7","v":246.57889754733478},"ns",{"$f":"+(B15-b_tof)/a_tof","v":842.71259677364719},0,4095,{"$f":"+F15-E15","v":4095},10,{"$f":"2^H15","v":1024},{"$f":"+(D15-E15)/G15*I15","v":210.7295968488925}]
["RF1-2",{"$f":"+B15","v":246.57889754733478},"ns",{"$f":"+(B16-b_tof-shift)/a_tof","v":2590.3994682851444},0,4095,4095,10,1024,647.75801111696899]
["RF2-1",{"$f":"+B16","v":246.57889754733478},"ns",{"$f":"+(B17-b_tof2)/a_tof2","v":692.59196745614599},0,4095,4095,10,1024,173.19027464593248]
["RF2-2",{"$f":"+B17","v":246.57889754733478},"ns",{"$f":"+(B18-b_tof2-shift2)/a_tof2","v":2408.3903547081204},0,4095,4095,10,1024,602.24462105521741]
["pin.E",{"$f":"+(I4-EnergyLossInMatter(Z,A,I4,show_Z(Material_pin),Thickness_pin))*A","v":138.12299475138525},"MeV",{"$f":"+(B19-b_pin_de)/a_pin_de","v":756.45548134921808},0,4095,4095,10,1024,189.16005199062255]
["sci.DE",{"$f":"+I8-I7*relat_PPAC_dE","v":3923.2443703500953},"MeV",{"$f":"+(B20-b_sci_de)/a_sci_de","v":1254.4236323337332},0,16383,16383,10,1024,78.406262559344611]
[]
[]
[]
["cell to edit"]

{"sheet":"data -> Z","index":6,"n_rows":16,"n_cols":19,"rows_kept":16,"cut":false,"hidden":false,"merged":[[15,0,15,1],[4,8,4,9],[3,1,3,3],[3,4,3,7]]}
["Brho1=",3.4]
["Brho2=",{"$f":"+Brho1","v":3.4}]
[]
[null,"plot",null,null,"acquisition"]
[null,"channel","dim","range","min","max","range","channel","phys.value",null,"beta","beta2","de_v","gamma","AoQ","Z","AoQ * Z","Q","AoQ * Q"]
["RF1-1",217.7,10,{"$f":"2^C6","v":1024},0,4095,{"$f":"+F6-E6","v":4095},{"$f":"+B6/D6*G6+E6","v":870.58740234375},{"$f":"a_tof*H6+b_tof","v":245.89125574205542},"ns",{"$f":"+(length1*Brho2/Brho1+length2)/I6/c_speed","v":0.48132599774080492},{"$f":"+K6*K6","v":0.23167471610118134},{"$f":"-1+LN(5930/(1/L6-1))/L6","v":31.325066497780071},{"$f":"+Beta2Gamma(K6)","v":1.1408470860120974},{"$f":"+Brho2/3.1071/K6/N6","v":1.9927688636576599},{"$f":"+a_z*SQRT(I$10/M6)+b_z","v":27.99967820500018},{"$f":"+P6*O6","v":55.796886919358357},{"$f":"+TKE/(N6-1)/O6/aem","v":17.527008078416245},{"$f":"+R6*O6","v":34.927275971744166}]
["RF1-2",null,10,1024,0,4095,4095,0,{"$f":"a_tof*H7+b_tof+shift","v":310.48129723534566},"ns",{"$f":"+(length1*Brho2/Brho1+length2)/I7/c_speed","v":0.38119479356616998},{"$f":"+K7*K7","v":0.14530947064195493},{"$f":"-1+LN(5930/(1/L7-1))/L7","v":46.594322382148725},{"$f":"+Beta2Gamma(K7)","v":1.0816719163094355},{"$f":"+Brho2/3.1071/K7/Beta2Gamma(K7)","v":2.6538793279401842},{"$f":"+a_z*SQRT(I$10/M7)+b_z","v":22.961521435277742},{"$f":"+P7*O7","v":60.937107075139025},{"$f":"+TKE/(N7-1)/O7/aem","v":22.696488205482204},{"$f":"+R7*O7","v":60.23374086536743}]
["RF2-1",null,10,1024,0,4095,4095,0,{"$f":"a_tof2*H8+b_tof2","v":263.98194257910001},"ns",{"$f":"+(length1*Brho2/Brho1+length2)/I8/c_speed","v":0.44834071925325147},{"$f":"+K8*K8","v":0.20100940054052285},{"$f":"-1+LN(5930/(1/L8-1))/L8","v":35.355424014249692},{"$f":"+Beta2Gamma(K8)","v":1.1187399969953276},{"$f":"+Brho2/3.1071/K8/Beta2Gamma(K8)","v":2.1816563209944508},{"$f":"+a_z*SQRT(I$10/M8)+b_z","v":26.356659634817667},{"$f":"+P8*O8","v":57.501173092599259},{"$f":"+TKE/(N8-1)/O8/aem","v":18.990185704076161},{"$f":"+R8*O8","v":41.430058678156215}]
["RF2-2",null,10,1024,0,4095,4095,0,{"$f":"a_tof2*H9+b_tof2+shift","v":307.09551882869312},"ns",{"$f":"+(length1*Brho2/Brho1+length2)/I9/c_speed","v":0.38539752861651327},{"$f":"+K9*K9","v":0.14853125506371617},{"$f":"-1+LN(5930/(1/L9-1))/L9","v":45.735026263524361},{"$f":"+Beta2Gamma(K9)","v":1.0837163973435895},{"$f":"+Brho2/3.1071/K9/Beta2Gamma(K9)","v":2.6199868774633557},{"$f":"+a_z*SQRT(I$10/M9)+b_z","v":23.176037794946001},{"$f":"+P9*O9","v":60.720914894353292},{"$f":"+TKE/(N9-1)/O9/aem","v":22.428639747238083},{"$f":"+R9*O9","v":58.762741817116812}]
["pin.E",582.20000000000005,10,1024,0,4095,4095,2328.2314453125,{"$f":"+a_pin_de*H10+b_pin_de","v":420.13679213623908},"MeV"]
["sci.DE",82.2,10,1024,0,16383,16383,1315.1197265625001,{"$f":"+a_sci_de*H11+b_sci_de","v":4162.261063160835},"MeV"]
[]
[null,null,null,null,null,null,null,"TKE =",{"$f":"+I10*relat_PPAC_dE+I11","v":4582.3978552970739},"MeV"]
[]
[]
["cell to edit"]

{"sheet":"parameters","index":7,"n_rows":29,"n_cols":7,"rows_kept":29,"cut":false,"hidden":false,"merged":[[13,0,13,2],[11,4,11,6],[0,0,0,2],[0,4,0,6],[6,0,6,2],[6,4,6,6]]}
["pid.rf1",null,null,null,"pid.rf2"]
["a_tof=",-2.4668936382354401E-2,"ns/ch",null,"a_tof2=",-2.5127413902424688E-2,"ns/ch"]
["b_tof=",267.36772098575256,"ns",null,"b_tof2=",263.98194257910001,"ns"]
["shift=",{"$f":"+shift_calc","v":43.113576249593116},"ns",null,"shift2=",{"$f":"+shift_calc","v":43.113576249593116},"ns"]
[]
[]
["fp.pin",null,null,null,"fp.sci"]
["a_pin_de=",0.17942366078289382,"MeV/ch",null,"a_sci_de=",3.9379254274562006,"MeV/ch"]
["b_pin_de=",2.396983068422482,"MeV",null,"b_sci_de=",-1016.5823482188802,"MeV"]
["Material_pin=","Si"]
["Thickness_pin=",109.96,"mg/cm2"]
[null,null,null,null,"different"]
[null,null,null,null,"HF=",23.19455,"MHz"]
["pid.Z",null,null,null,"shift_calc=",{"$f":"1/HF/1000000/0.000000001","v":43.113576249593116},"ns"]
["a_z=",7.64]
["b_z=",0.02,null,null,"length1=",17.486000000000001,"m"]
[null,null,null,null,"length2=",{"$f":"35.48-F16","v":17.993999999999996},"m"]
[]
[null,null,null,null,"radius=",3.1,"m"]
[null,null,null,null,"mass_58Ni=",57.935299999999998,"aem"]
[null,null,null,null,"relat_PPAC_dE=",1]
[null,null,null,null,"c_speed=",0.29977900000000002,"m/ns"]
[null,null,null,null,"aem=",931.49432000000002]
[]
["information",null,null,null,"slopeX=",1]
["cells to edit",null,null,null,"offsetX=",0]
["protected cells"]
[null,null,null,null,"slope_Brho=",{"$f":"1/dispersion/100","v":1.6913090393702921E-4}]
[null,null,null,null,"dispersion=",59.125799999999998,"mm/%"]

{"sheet":"data","index":8,"n_rows":201,"n_cols":14,"rows_kept":201,"cut":false,"hidden":true,"merged":[]}
["Z","Name","Mass","Density",null,"N","A/Q","Fq","B0",null,"No.","Name","Fit","Basin"]
[1,"H",1.008,7.1499999999999994E-2,null,null,null,"MHz","T",null,1,"Cp(0) ",-2.5840000000000001,-2.5840000000000001]
[{"$f":"1+A2","v":2},"He",4.0030000000000001,0.12590000000000001,null,1,2,22.081,1.448,null,2,"Cp(1) ",-7.5700000000000003E-3,-7.5700000000000003E-3]
[3,"Li",6.9409999999999998,0.53400000000000003,null,2,2.02,21.962,1.4550000000000001,null,3,"Cp(2) ",1.2513688557067252E-2,0]
[4,"Be",9.0120000000000005,1.8480000000000001,null,3,2.04,21.844999999999999,1.4610000000000001,null,4,"Cp(3) ",3.5678864939365604E-2,1]
[5,"B",10.811,2.3502000000000001,null,4,2.06,21.728000000000002,1.468,null,5,"czp(0) ",-0.89500000000000002,-0.89500000000000002]
[6,"C",12.010999999999999,2.2530000000000001,null,5,2.08,21.613,1.474,null,6,"czp(1) ",2.7029999999999998E-2,2.7029999999999998E-2]
[7,"N",14.007,1.026,null,6,2.1,21.498000000000001,1.48,null,7,"czp(2) ",2.041E-4,2.041E-4]
[8,"O",15.999000000000001,1.4259999999999999,null,7,2.12,21.384,1.4870000000000001,null,8,"czp(3) ",0,0]
[9,"F",18.998000000000001,1.1111,null,8,2.14,21.271000000000001,1.4930000000000001,null,9,"cdqn(0) ",0,0]
[10,"Ne",20.18,1.204,null,9,2.16,21.158999999999999,1.4990000000000001,null,10,"cdqn(1) ",0.54169699999999998,0.54169699999999998]
[11,"Na",22.99,0.97,null,10,2.1800000000000002,21.047999999999998,1.5049999999999999,null,11,"cdqn(2) ",0,0]
[12,"Mg",24.305,1.7365999999999999,null,11,2.2000000000000002,20.937000000000001,1.51,null,12,"cdqn(3) ",0.36544300000000002,0.36544300000000002]
[13,"Al",26.981999999999999,2.702,null,12,2.2200000000000002,20.827999999999999,1.516,null,13,"cdqp(0) ",0,0]
[14,"Si",28.085999999999999,2.3212000000000002,null,13,2.2400000000000002,20.719000000000001,1.522,null,14,"cdqp(1) ",-0.27930500000000003,-0.27930500000000003]
[15,"P",30.974,1.8219000000000001,null,14,2.2599999999999998,20.61,1.5269999999999999,null,15,"cdqp(2) ",0,0]
[16,"S",32.066000000000003,2.0686,null,15,2.2799999999999998,20.501999999999999,1.5329999999999999,null,16,"cdqp(3) ",0.87914000000000003,0.87914000000000003]
[17,"Cl",35.453000000000003,1.8956,null,16,2.2999999999999998,20.395,1.538,null,17,"cr(0) ",2.1779000000000002,2.1779000000000002]
[18,"Ar",39.948,1.6504000000000001,null,17,2.3199999999999998,20.289000000000001,1.5429999999999999,null,18,"cr(1) ",-6.7702099999999996E-3,-6.7702099999999996E-3]
[19,"K",39.097999999999999,0.86319999999999997,null,18,2.34,20.183,1.5489999999999999,null,19,"cr(2) ",0,0]
[20,"Ca",40.08,1.54,null,19,2.36,20.077999999999999,1.554,null,20,"cr(3) ",0,0]
[21,"Sc",44.956000000000003,2.9889999999999999,null,20,2.38,19.972999999999999,1.5589999999999999,null,21,"up",2,2]
[22,"Ti",47.9,4.5189000000000004,null,21,2.4,19.869,1.5640000000000001,null,22,"un",1.5,1.5]
[23,"V",50.942,5.96,null,22,2.42,19.765999999999998,1.5680000000000001]
[24,"Cr",51.996000000000002,7.2,null,23,2.44,19.663,1.573]
[25,"Mn",54.938000000000002,7.4340999999999999,null,24,2.46,19.561,1.5780000000000001]
[26,"Fe",55.847000000000001,7.8658000000000001,null,25,2.48,19.46,1.5820000000000001]
[27,"Co",58.933,8.9,null,26,2.5,19.359000000000002,1.587]
[28,"Ni",58.69,8.8955000000000002,null,27,2.52,19.257999999999999,1.591]
[29,"Cu",63.545999999999999,8.92,null,28,2.54,19.158999999999999,1.5960000000000001]
[30,"Zn",65.39,7.14,null,29,2.56,19.059999999999999,1.6]
[31,"Ga",69.72,5.9039999999999999,null,30,2.58,18.960999999999999,1.6040000000000001]
[32,"Ge",72.61,5.35,null,31,2.6,18.863,1.6080000000000001]
[33,"As",74.921999999999997,5.7270000000000003,null,32,2.62,18.765999999999998,1.6120000000000001]
[{"$f":"1+A34","v":34},"Se",78.959999999999994,4.8099999999999996,null,33,2.64,18.670000000000002,1.6160000000000001]
[35,"Br",79.903999999999996,3.1989999999999998,null,34,2.66,18.574000000000002,1.62]
[36,"Kr",83.8,2.6021000000000001,null,35,2.68,18.478000000000002,1.6240000000000001]
[37,"Rb",85.47,1.532,null,36,2.7,18.384,1.6279999999999999]
[38,"Sr",87.62,2.6,null,37,2.72,18.289000000000001,1.631]
[39,"Y",88.905000000000001,4.4690000000000003,null,38,2.74,18.196000000000002,1.635]
[40,"Zr",91.22,6.49,null,39,2.76,18.103000000000002,1.6379999999999999]
[41,"Nb",92.906000000000006,8.57,null,40,2.78,18.010999999999999,1.6419999999999999]
[42,"Mo",95.94,10.206,null,41,2.8,17.919,1.645]
[43,"Tc",97,11.5,null,42,2.82,17.829000000000001,1.649]
[44,"Ru",101.07,12.3,null,43,2.84,17.738,1.6519999999999999]
[45,"Rh",102.91,12.398999999999999,null,44,2.86,17.649000000000001,1.655]
[46,"Pd",106.4,12.02,null,45,2.88,17.559999999999999,1.6579999999999999]
[47,"Ag",107.87,10.473000000000001,null,46,2.9,17.471,1.661]
[48,"Cd",112.4,8.6419999999999995,null,47,2.92,17.384,1.6639999999999999]
[49,"In",114.82,7.3,null,48,2.94,17.297000000000001,1.667]
[50,"Sn",118.71,7.2816000000000001,null,49,2.96,17.21,1.67]
[51,"Sb",121.75,6.6840000000000002,null,50,2.98,17.125,1.673]
[52,"Te",127.6,6.25,null,51,3,17.039000000000001,1.6759999999999999]
[53,"I",126.9,4.9372999999999996,null,52,3.02,16.954999999999998,1.6789999999999998]
[54,"Xe",131.30000000000001,3.0589,null,53,3.04,16.870999999999999,1.6819999999999997]
[55,"Cs",132.91,1.8785000000000001,null,54,3.06,16.788,1.6850000000000001]
[56,"Ba",137.327,3.51,null,55,3.08,16.706,1.6870000000000001]
[57,"La",138.91,6.1738,null,56,3.1,16.623999999999999,1.69]
[58,"Ce",140.12,6.6723999999999997,null,57,3.12,16.542999999999999,1.6919999999999999]
[59,"Pr",140.91,6.7729999999999997,null,58,3.14,16.462,1.6950000000000001]
[60,"Nd",144.24,7.008,null,59,3.16,16.382000000000001,1.6970000000000001]
[61,"Pm",148,6.4749999999999996,null,60,3.18,16.303000000000001,1.7]
[62,"Sm",150.36000000000001,7.52,null,61,3.2,16.224,1.702]
[63,"Eu",151.97,5.2439999999999998,null,62,3.22,16.146000000000001,1.7050000000000001]
[64,"Gd",157.25,7.9009999999999998,null,63,3.24,16.068999999999999,1.7070000000000001]
[65,"Tb",158.93,8.23,null,64,3.26,15.992000000000001,1.71]
[{"$f":"1+A66","v":66},"Dy",162.5,8.5510000000000002,null,65,3.28,15.916,1.712]
[67,"Ho",164.93,8.7949999999999999,null,66,3.3,15.840999999999999,1.714]
[68,"Er",167.26,9.0660000000000007,null,67,3.32,15.766,1.716]
[69,"Tm",168.93,9.3209999999999997,null,68,3.34,15.691000000000001,1.7189999999999999]
[70,"Yb",173.04,6.96,null,69,3.36,15.618,1.7209999999999999]
[71,"Lu",174.97,9.8409999999999993,null,70,3.38,15.545,1.7229999999999999]
[72,"Hf",178.49,13.31,null,71,3.4,15.472,1.7250000000000001]
[73,"Ta",180.95,16.600999999999999,null,72,3.42,15.4,1.7269999999999999]
[74,"W",183.85,19.350000000000001,null,73,3.44,15.329000000000001,1.7289999999999999]
[75,"Re",186.2,20.53,null,74,3.46,15.257999999999999,1.7309999999999999]
[76,"Os",190.2,22.48,null,75,3.48,15.188000000000001,1.7329999999999999]
[77,"Ir",192.2,22.420999999999999,null,76,3.5,15.119,1.7350000000000001]
[78,"Pt",195.08,21.45,null,77,3.52,15.05,1.7369999999999999]
[79,"Au",196.97,19.311,null,78,3.54,14.981,1.7389999999999999]
[80,"Hg",200.59,13.546200000000001,null,79,3.56,14.913,1.7409999999999999]
[81,"Tl",204.38,11.85,null,80,3.58,14.846,1.7429999999999999]
[82,"Pb",207.19,11.3437,null,81,3.6,14.779,1.7450000000000001]
[83,"Bi",208.98,9.8000000000000007,null,82,3.62,14.712999999999999,1.746]
[84,"Po",210,9.2510999999999992,null,83,3.64,14.647,1.748]
[85,"At",210,10,null,84,3.66,14.582000000000001,1.75]
[86,"Rn",222,9.91,null,85,3.68,14.518000000000001,1.752]
[87,"Fr",223,10,null,86,3.7,14.454000000000001,1.754]
[88,"Ra",226,5.0221999999999998,null,87,3.72,14.39,1.7549999999999999]
[89,"Ac",227,10,null,88,3.74,14.327,1.7569999999999999]
[90,"Th",232,11.657999999999999,null,89,3.76,14.263999999999999,1.7589999999999999]
[91,"Pa",231,15.37,null,90,3.78,14.202,1.76]
[92,"U",238.03,19.042999999999999,null,91,3.8,14.141,1.762]
[93,"Np",239,19.042999999999999,null,92,3.82,14.08,1.764]
[94,"Pu",239,19.042999999999999,null,93,3.84,14.019,1.7649999999999999]
[95,"Am",243,19.042999999999999,null,94,3.86,13.959,1.7669999999999999]
[96,"Cm",245,19.042999999999999,null,95,3.88,13.898999999999999,1.768]
[97,"Bk",248,19.042999999999999,null,96,3.9,13.84,1.77]
[{"$f":"1+A98","v":98},"Cf",249,19.042999999999999,null,97,3.92,13.781000000000001,1.7709999999999999]
[99,"Es",254,19.042999999999999,null,98,3.94,13.723000000000001,1.7729999999999999]
[100,"Fm",252,19.042999999999999,null,99,3.96,13.664999999999999,1.774]
[101,"Md",255,19.042999999999999,null,100,3.98,13.606999999999999,1.776]
[102,"No",254,19.042999999999999,null,101,4,13.551,1.7769999999999999]
[103,"Lr",257,19.042999999999999,null,102,4.0199999999999996,13.494,1.7789999999999999]
[104,"Rf",260,19.042999999999999,null,103,4.04,13.438000000000001,1.78]
[105,"Db",262,19.042999999999999,null,104,4.0599999999999996,13.382,1.782]
[106,"Sg",265,19.042999999999999,null,105,4.08,13.327,1.7829999999999999]
[107,"Bh",267,19.042999999999999,null,106,4.0999999999999996,13.272,1.784]
[108,"Hs",270,19.042999999999999,null,107,4.12,13.218,1.786]
[109,"Mt",272,19.042999999999999,null,108,4.1399999999999997,13.164,1.7869999999999999]
[110,"Ds",275,19.042999999999999,null,109,4.16,13.11,1.788]
[111,"Rg",277,19.042999999999999,null,110,4.18,13.057,1.79]
[112,"Cn",280,19.042999999999999,null,111,4.2,13.004,1.7909999999999999]
[113,"Ed",282,19.042999999999999,null,112,4.22,12.951000000000001,1.792]
[114,"Fl",285,19.042999999999999,null,113,4.24,12.898999999999999,1.7929999999999999]
[115,"Ef",287,19.042999999999999,null,114,4.26,12.847,1.7949999999999999]
[116,"Lv",290,19.042999999999999,null,115,4.28,12.795999999999999,1.7959999999999998]
[117,"Eh",292,19.042999999999999,null,116,4.3,12.744999999999999,1.7969999999999997]
[118,"Ei",295,19.042999999999999,null,117,4.319999999999995,12.695,1.7979999999999996]
[119,"B9",297,19.042999999999999,null,118,4.3399999999999945,12.644,1.7989999999999995]
[120,"C0",300,19.042999999999999,null,119,4.3599999999999941,12.593999999999999,1.8009999999999999]
[121,"C1",302,19.042999999999999,null,120,4.3799999999999937,12.545,1.8019999999999998]
[122,"C2",305,19.042999999999999,null,121,4.3999999999999932,12.496,1.8029999999999997]
[123,"C3",307,19.042999999999999,null,122,4.4199999999999928,12.446999999999999,1.8039999999999996]
[124,"C4",310,19.042999999999999,null,123,4.4399999999999924,12.398,1.8049999999999999]
[125,"C5",312,19.042999999999999,null,124,4.459999999999992,12.35,1.8059999999999994]
[126,"C6",315,19.042999999999999,null,125,4.4799999999999915,12.302,1.8069999999999993]
[127,"C7",317,19.042999999999999,null,126,4.4999999999999911,12.255000000000001,1.8079999999999992]
[128,"C8",320,19.042999999999999,null,127,4.5199999999999907,12.208,1.8089999999999991]
[129,"C9",322,19.042999999999999,null,128,4.5399999999999903,12.161,1.81]
[130,"D0",325,19.042999999999999,null,129,4.5599999999999898,12.115,1.8109999999999988]
[131,"D1",332,19.042999999999999,null,130,4.5799999999999894,12.068,1.8119999999999987]
[132,"D2",335,19.042999999999999,null,131,4.599999999999989,12.023,1.8129999999999986]
[133,"D3",337,19.042999999999999,null,132,4.6199999999999886,11.977,1.8139999999999985]
[134,"D4",340,19.042999999999999,null,133,4.6399999999999881,11.932,1.8149999999999999]
[135,"D5",342,19.042999999999999,null,134,4.6599999999999877,11.887,1.8159999999999983]
[136,"D6",345,19.042999999999999,null,135,4.6799999999999873,11.842000000000001,1.8169999999999982]
[137,"D7",347,19.042999999999999,null,136,4.6999999999999869,11.798,1.8179999999999981]
[138,"D8",350,19.042999999999999,null,137,4.7199999999999864,11.754,1.818999999999998]
[139,"D9",352,19.042999999999999,null,138,4.739999999999986,11.711,1.82]
[140,"E0",355,19.042999999999999,null,139,4.7599999999999856,11.667,1.8209999999999977]
[141,"E1",358,19.042999999999999,null,140,4.7799999999999851,11.624000000000001,1.8219999999999976]
[142,"E2",360,19.042999999999999,null,141,4.7999999999999847,11.581,1.8229999999999975]
[143,"E3",362,19.042999999999999,null,142,4.8199999999999843,11.539,1.8239999999999974]
[144,"E4",365,19.042999999999999,null,143,4.8399999999999839,11.497,1.825]
[145,"E5",368,19.042999999999999,null,144,4.8599999999999834,11.455,1.825]
[146,"E6",370,19.042999999999999,null,145,4.879999999999983,11.413,1.8259999999999998]
[147,"E7",373,19.042999999999999,null,146,4.8999999999999826,11.372,1.8269999999999997]
[148,"E8",376,19.042999999999999,null,147,4.9199999999999822,11.331,1.8279999999999996]
[149,"E9",379,19.042999999999999,null,148,4.9399999999999817,11.29,1.8289999999999995]
[150,"F0",382,19.042999999999999,null,149,4.9599999999999813,11.25,1.83]
[151,"F1",385,19.042999999999999,null,150,4.9799999999999809,11.21,1.8309999999999993]
[152,"F2",388,19.042999999999999,null,151,4.9999999999999805,11.17,1.831]
[153,"F3",391,19.042999999999999]
[154,"F4",393,19.042999999999999]
[155,"F5",396,19.042999999999999]
[156,"F6",399,19.042999999999999]
[157,"F7",402,19.042999999999999]
[158,"F8",405,19.042999999999999]
[159,"F9",408,19.042999999999999]
[160,"F0",411,19.042999999999999]
[161,"G1",413,19.042999999999999]
[{"$f":"1+A162","v":162},"G2",416,19.042999999999999]
[163,"G3",419,19.042999999999999]
[164,"G4",422,19.042999999999999]
[165,"G5",425,19.042999999999999]
[166,"G6",428,19.042999999999999]
[167,"G7",431,19.042999999999999]
[168,"G8",434,19.042999999999999]
[169,"G9",437,19.042999999999999]
[170,"H0",440,19.042999999999999]
[171,"H1",443,19.042999999999999]
[172,"H2",446,19.042999999999999]
[173,"H3",449,19.042999999999999]
[174,"H4",452,19.042999999999999]
[175,"H5",455,19.042999999999999]
[176,"H6",457,19.042999999999999]
[177,"H7",460,19.042999999999999]
[178,"H8",463,19.042999999999999]
[179,"H9",466,19.042999999999999]
[180,"H0",468,19.042999999999999]
[181,"I1",471,19.042999999999999]
[182,"I2",474,19.042999999999999]
[183,"I3",477,19.042999999999999]
[184,"I4",480,19.042999999999999]
[185,"I5",483,19.042999999999999]
[186,"I6",485,19.042999999999999]
[187,"I7",488,19.042999999999999]
[188,"I8",491,19.042999999999999]
[189,"I9",494,19.042999999999999]
[190,"J0",497,19.042999999999999]
[191,"J1",500,19.042999999999999]
[192,"J2",503,19.042999999999999]
[193,"J3",505,19.042999999999999]
[194,"J4",507,19.042999999999999]
[195,"J5",510,19.042999999999999]
[196,"J6",513,19.042999999999999]
[197,"J7",516,19.042999999999999]
[198,"J8",519,19.042999999999999]
[199,"J9",522,19.042999999999999]
[200,"K0",525,19.042999999999999]